BEGIN:VCALENDAR
VERSION:2.0
METHOD:PUBLISH
PRODID:-//Accessible Web Design//My Calendar//http://www.joedolson.com//v//EN';
BEGIN:VEVENT
UID:251-103
LOCATION:
SUMMARY:Christmas Day
DTSTAMP:20251225T000000
ORGANIZER;CN=pennhomemo:MAILTO:hassany@pennhomecare.net
DTSTART:20251225T000000
DTEND:20251225T010000
CATEGORIES:General
URL;VALUE=URI:
DESCRIPTION;ENCODING=QUOTED-PRINTABLE: 
END:VEVENT
END:VCALENDAR