BEGIN:VCALENDAR
VERSION:2.0
METHOD:PUBLISH
PRODID:-//Accessible Web Design//My Calendar//http://www.joedolson.com//v//EN';
BEGIN:VEVENT
UID:243-95
LOCATION:
SUMMARY:Independence Day
DTSTAMP:20260703T000000
ORGANIZER;CN=pennhomemo:MAILTO:hassany@pennhomecare.net
DTSTART:20260703T000000
DTEND:20260703T010000
CATEGORIES:General
URL;VALUE=URI:
DESCRIPTION;ENCODING=QUOTED-PRINTABLE: 
END:VEVENT
END:VCALENDAR